BEGIN:VCALENDAR
VERSION:2.0
PRODID:-//Factory Theatre - ECPv6.15.20//NONSGML v1.0//EN
CALSCALE:GREGORIAN
METHOD:PUBLISH
X-ORIGINAL-URL:https://www.factorytheatre.ca
X-WR-CALDESC:Events for Factory Theatre
REFRESH-INTERVAL;VALUE=DURATION:PT1H
X-Robots-Tag:noindex
X-PUBLISHED-TTL:PT1H
BEGIN:VTIMEZONE
TZID:America/Toronto
BEGIN:DAYLIGHT
TZOFFSETFROM:-0500
TZOFFSETTO:-0400
TZNAME:EDT
DTSTART:20250309T070000
END:DAYLIGHT
BEGIN:STANDARD
TZOFFSETFROM:-0400
TZOFFSETTO:-0500
TZNAME:EST
DTSTART:20251102T060000
END:STANDARD
BEGIN:DAYLIGHT
TZOFFSETFROM:-0500
TZOFFSETTO:-0400
TZNAME:EDT
DTSTART:20260308T070000
END:DAYLIGHT
BEGIN:STANDARD
TZOFFSETFROM:-0400
TZOFFSETTO:-0500
TZNAME:EST
DTSTART:20261101T060000
END:STANDARD
BEGIN:DAYLIGHT
TZOFFSETFROM:-0500
TZOFFSETTO:-0400
TZNAME:EDT
DTSTART:20270314T070000
END:DAYLIGHT
BEGIN:STANDARD
TZOFFSETFROM:-0400
TZOFFSETTO:-0500
TZNAME:EST
DTSTART:20271107T060000
END:STANDARD
END:VTIMEZONE
BEGIN:VEVENT
DTSTART;TZID=America/Toronto:20260423T193000
DTEND;TZID=America/Toronto:20260423T203000
DTSTAMP:20260423T105225
CREATED:20260106T192858Z
LAST-MODIFIED:20260106T192859Z
UID:10002766-1776972600-1776976200@www.factorytheatre.ca
SUMMARY:Bonnes Bonnes
DESCRIPTION:
URL:https://www.factorytheatre.ca/event/bonnes-bonnes/2026-04-23/
CATEGORIES:Factory Season
END:VEVENT
BEGIN:VEVENT
DTSTART;TZID=America/Toronto:20260424T193000
DTEND;TZID=America/Toronto:20260424T203000
DTSTAMP:20260423T105225
CREATED:20260106T192858Z
LAST-MODIFIED:20260106T192859Z
UID:10002767-1777059000-1777062600@www.factorytheatre.ca
SUMMARY:Bonnes Bonnes
DESCRIPTION:
URL:https://www.factorytheatre.ca/event/bonnes-bonnes/2026-04-24/
CATEGORIES:Factory Season
END:VEVENT
BEGIN:VEVENT
DTSTART;TZID=America/Toronto:20260425T193000
DTEND;TZID=America/Toronto:20260425T203000
DTSTAMP:20260423T105225
CREATED:20260106T192858Z
LAST-MODIFIED:20260106T192859Z
UID:10002768-1777145400-1777149000@www.factorytheatre.ca
SUMMARY:Bonnes Bonnes
DESCRIPTION:
URL:https://www.factorytheatre.ca/event/bonnes-bonnes/2026-04-25/
CATEGORIES:Factory Season
END:VEVENT
BEGIN:VEVENT
DTSTART;TZID=America/Toronto:20260426T193000
DTEND;TZID=America/Toronto:20260426T203000
DTSTAMP:20260423T105225
CREATED:20260106T192858Z
LAST-MODIFIED:20260106T192859Z
UID:10002769-1777231800-1777235400@www.factorytheatre.ca
SUMMARY:Bonnes Bonnes
DESCRIPTION:
URL:https://www.factorytheatre.ca/event/bonnes-bonnes/2026-04-26/
CATEGORIES:Factory Season
END:VEVENT
END:VCALENDAR