BEGIN:VCALENDAR
VERSION:2.0
PRODID:-//Factory Theatre - ECPv6.15.20//NONSGML v1.0//EN
CALSCALE:GREGORIAN
METHOD:PUBLISH
X-WR-CALNAME:Factory Theatre
X-ORIGINAL-URL:https://www.factorytheatre.ca
X-WR-CALDESC:Events for Factory Theatre
REFRESH-INTERVAL;VALUE=DURATION:PT1H
X-Robots-Tag:noindex
X-PUBLISHED-TTL:PT1H
BEGIN:VTIMEZONE
TZID:America/Toronto
BEGIN:DAYLIGHT
TZOFFSETFROM:-0500
TZOFFSETTO:-0400
TZNAME:EDT
DTSTART:20250309T070000
END:DAYLIGHT
BEGIN:STANDARD
TZOFFSETFROM:-0400
TZOFFSETTO:-0500
TZNAME:EST
DTSTART:20251102T060000
END:STANDARD
BEGIN:DAYLIGHT
TZOFFSETFROM:-0500
TZOFFSETTO:-0400
TZNAME:EDT
DTSTART:20260308T070000
END:DAYLIGHT
BEGIN:STANDARD
TZOFFSETFROM:-0400
TZOFFSETTO:-0500
TZNAME:EST
DTSTART:20261101T060000
END:STANDARD
BEGIN:DAYLIGHT
TZOFFSETFROM:-0500
TZOFFSETTO:-0400
TZNAME:EDT
DTSTART:20270314T070000
END:DAYLIGHT
BEGIN:STANDARD
TZOFFSETFROM:-0400
TZOFFSETTO:-0500
TZNAME:EST
DTSTART:20271107T060000
END:STANDARD
END:VTIMEZONE
BEGIN:VEVENT
DTSTART;TZID=America/Toronto:20260513T193000
DTEND;TZID=America/Toronto:20260513T210000
DTSTAMP:20260421T062509
CREATED:20260310T152009Z
LAST-MODIFIED:20260408T204730Z
UID:10002789-1778700600-1778706000@www.factorytheatre.ca
SUMMARY:12 Litres 8800 Steps
DESCRIPTION:The Unbridled Theatre Collective and Aluna Theatre presents 12 Litres 8800 Steps \n\n\n\n12 Litres 8800 Steps is an interdisciplinary theatrical odyssey that invites us into the world of people who have lost loved ones to addiction: One woman’s journey in coming to terms with the fragility of her own mental health while witnessing the demise of her partner through addiction. A Horse appears and magic realism collides with the everyday reality of living with and loving an addict.  \n\n\n\nMoving between fantasy and reality\, past and present and inspired by equine therapy\, the play explores the deepening bond between The Horse and The Woman: how they come together to negotiate their relationship\, re-discover play and how they eventually heal each other in the process. An 80-minute high octane rollercoaster with stunning visuals and an immersive soundscape\, 12 Litres 8800 Steps is for anyone seeking a silver lining in the dark. \n\n\n\nContent/Sensory Warnings\nContent warning: addiction\, alcoholism\, mental health\, panic attacks\, drowning\, death \n\n\n\nSensory warning: loud immersive sound \n\n\n\n\nProduction Credits\n\n\n\nCREATOR\, DIRECTOR AND PERFORMER Anita La Selva \n\n\n\nPERFORMER Brad Cook \n\n\n\nCO-DIRECTOR Beatriz Pizano \n\n\n\nPRODUCTION DRAMTURG Martin Julien \n\n\n\nSCENOGRAPHER Trevor Schwellnus \n\n\n\nCHOREOGRAPHER Victoria Mata \n\n\n\nSOUND DESIGNER Thomas Ryder Payne \n\n\n\nCOSTUME DESIGNER Teresa Pryzbylski \n\n\n\nCO-DESIGNER/BUILDER – HORSE MASK Monica Viani \n\n\n\nPRODUCTION MANAGER Charissa Wilcox \n\n\n\nSTAGE MANAGER Flavía F. Martin \n\n\n\nASSISTANT STAGE MANAGER Alicia Salverda \n\n\n\nASSOCIATE ARTISTIC PRODUCER FOR ALUNA THEATRE María Escolán \n\n\n\nMARKETING COORDINATOR Josh Marchesini \n\n\n\nProduced by The Unbridled Theatre Collective and Aluna Theatre \n\n\n\nVenue Partner: Factory Theatre \n\n\n\nPerformance Schedule\n\n\n\nPreview: Fri May 1\, 7:30pm \n\n\n\nPreview: Sat May 2\, 7:30pm \n\n\n\nPreview: Sun May 3\, 2:00pm \n\n\n\nOpening: Wed May 6\, 7:30pm – Opening Reception \n\n\n\nThurs May 7\, 7:30pm –  Post Show Talkback: Hosted by Barbara Brown\, Redbird Therapy Centre \n\n\n\nFri May 8\, 7:30pm \n\n\n\nSat May 9\, 7:30pm \n\n\n\nSun May 10\, 2:00pm \n\n\n\nWed May 13\, 7:30pm \n\n\n\nThurs May 14\, 7:30pm – Post-show Talkback \n\n\n\nFri May 15\, 7:30pm \n\n\n\nSat May 16\, 7:30pm \n\n\n\nClosing: Sun May 17\, 2:00pm \n\n\n\nTicket Pricing\n\n\n\n$25 Arts Worker/Student/Senior | $35 Regular | $50 Supporter | All Previews $25 \n\n\n\n\nGet Tickets
URL:https://www.factorytheatre.ca/event/12-litres-8800-steps-3/2026-05-13/
CATEGORIES:Rentals
ATTACH;FMTTYPE=image/jpeg:https://www.factorytheatre.ca/wp-content/uploads/2026/03/12-litres-8800-steps_draft-3_box-office-banner-scaled.jpg
END:VEVENT
BEGIN:VEVENT
DTSTART;TZID=America/Toronto:20260514T193000
DTEND;TZID=America/Toronto:20260514T210000
DTSTAMP:20260421T062509
CREATED:20260310T152009Z
LAST-MODIFIED:20260408T204730Z
UID:10002790-1778787000-1778792400@www.factorytheatre.ca
SUMMARY:12 Litres 8800 Steps
DESCRIPTION:The Unbridled Theatre Collective and Aluna Theatre presents 12 Litres 8800 Steps \n\n\n\n12 Litres 8800 Steps is an interdisciplinary theatrical odyssey that invites us into the world of people who have lost loved ones to addiction: One woman’s journey in coming to terms with the fragility of her own mental health while witnessing the demise of her partner through addiction. A Horse appears and magic realism collides with the everyday reality of living with and loving an addict.  \n\n\n\nMoving between fantasy and reality\, past and present and inspired by equine therapy\, the play explores the deepening bond between The Horse and The Woman: how they come together to negotiate their relationship\, re-discover play and how they eventually heal each other in the process. An 80-minute high octane rollercoaster with stunning visuals and an immersive soundscape\, 12 Litres 8800 Steps is for anyone seeking a silver lining in the dark. \n\n\n\nContent/Sensory Warnings\nContent warning: addiction\, alcoholism\, mental health\, panic attacks\, drowning\, death \n\n\n\nSensory warning: loud immersive sound \n\n\n\n\nProduction Credits\n\n\n\nCREATOR\, DIRECTOR AND PERFORMER Anita La Selva \n\n\n\nPERFORMER Brad Cook \n\n\n\nCO-DIRECTOR Beatriz Pizano \n\n\n\nPRODUCTION DRAMTURG Martin Julien \n\n\n\nSCENOGRAPHER Trevor Schwellnus \n\n\n\nCHOREOGRAPHER Victoria Mata \n\n\n\nSOUND DESIGNER Thomas Ryder Payne \n\n\n\nCOSTUME DESIGNER Teresa Pryzbylski \n\n\n\nCO-DESIGNER/BUILDER – HORSE MASK Monica Viani \n\n\n\nPRODUCTION MANAGER Charissa Wilcox \n\n\n\nSTAGE MANAGER Flavía F. Martin \n\n\n\nASSISTANT STAGE MANAGER Alicia Salverda \n\n\n\nASSOCIATE ARTISTIC PRODUCER FOR ALUNA THEATRE María Escolán \n\n\n\nMARKETING COORDINATOR Josh Marchesini \n\n\n\nProduced by The Unbridled Theatre Collective and Aluna Theatre \n\n\n\nVenue Partner: Factory Theatre \n\n\n\nPerformance Schedule\n\n\n\nPreview: Fri May 1\, 7:30pm \n\n\n\nPreview: Sat May 2\, 7:30pm \n\n\n\nPreview: Sun May 3\, 2:00pm \n\n\n\nOpening: Wed May 6\, 7:30pm – Opening Reception \n\n\n\nThurs May 7\, 7:30pm –  Post Show Talkback: Hosted by Barbara Brown\, Redbird Therapy Centre \n\n\n\nFri May 8\, 7:30pm \n\n\n\nSat May 9\, 7:30pm \n\n\n\nSun May 10\, 2:00pm \n\n\n\nWed May 13\, 7:30pm \n\n\n\nThurs May 14\, 7:30pm – Post-show Talkback \n\n\n\nFri May 15\, 7:30pm \n\n\n\nSat May 16\, 7:30pm \n\n\n\nClosing: Sun May 17\, 2:00pm \n\n\n\nTicket Pricing\n\n\n\n$25 Arts Worker/Student/Senior | $35 Regular | $50 Supporter | All Previews $25 \n\n\n\n\nGet Tickets
URL:https://www.factorytheatre.ca/event/12-litres-8800-steps-3/2026-05-14/
CATEGORIES:Rentals
ATTACH;FMTTYPE=image/jpeg:https://www.factorytheatre.ca/wp-content/uploads/2026/03/12-litres-8800-steps_draft-3_box-office-banner-scaled.jpg
END:VEVENT
BEGIN:VEVENT
DTSTART;TZID=America/Toronto:20260515T193000
DTEND;TZID=America/Toronto:20260515T210000
DTSTAMP:20260421T062509
CREATED:20260310T152009Z
LAST-MODIFIED:20260408T204730Z
UID:10002791-1778873400-1778878800@www.factorytheatre.ca
SUMMARY:12 Litres 8800 Steps
DESCRIPTION:The Unbridled Theatre Collective and Aluna Theatre presents 12 Litres 8800 Steps \n\n\n\n12 Litres 8800 Steps is an interdisciplinary theatrical odyssey that invites us into the world of people who have lost loved ones to addiction: One woman’s journey in coming to terms with the fragility of her own mental health while witnessing the demise of her partner through addiction. A Horse appears and magic realism collides with the everyday reality of living with and loving an addict.  \n\n\n\nMoving between fantasy and reality\, past and present and inspired by equine therapy\, the play explores the deepening bond between The Horse and The Woman: how they come together to negotiate their relationship\, re-discover play and how they eventually heal each other in the process. An 80-minute high octane rollercoaster with stunning visuals and an immersive soundscape\, 12 Litres 8800 Steps is for anyone seeking a silver lining in the dark. \n\n\n\nContent/Sensory Warnings\nContent warning: addiction\, alcoholism\, mental health\, panic attacks\, drowning\, death \n\n\n\nSensory warning: loud immersive sound \n\n\n\n\nProduction Credits\n\n\n\nCREATOR\, DIRECTOR AND PERFORMER Anita La Selva \n\n\n\nPERFORMER Brad Cook \n\n\n\nCO-DIRECTOR Beatriz Pizano \n\n\n\nPRODUCTION DRAMTURG Martin Julien \n\n\n\nSCENOGRAPHER Trevor Schwellnus \n\n\n\nCHOREOGRAPHER Victoria Mata \n\n\n\nSOUND DESIGNER Thomas Ryder Payne \n\n\n\nCOSTUME DESIGNER Teresa Pryzbylski \n\n\n\nCO-DESIGNER/BUILDER – HORSE MASK Monica Viani \n\n\n\nPRODUCTION MANAGER Charissa Wilcox \n\n\n\nSTAGE MANAGER Flavía F. Martin \n\n\n\nASSISTANT STAGE MANAGER Alicia Salverda \n\n\n\nASSOCIATE ARTISTIC PRODUCER FOR ALUNA THEATRE María Escolán \n\n\n\nMARKETING COORDINATOR Josh Marchesini \n\n\n\nProduced by The Unbridled Theatre Collective and Aluna Theatre \n\n\n\nVenue Partner: Factory Theatre \n\n\n\nPerformance Schedule\n\n\n\nPreview: Fri May 1\, 7:30pm \n\n\n\nPreview: Sat May 2\, 7:30pm \n\n\n\nPreview: Sun May 3\, 2:00pm \n\n\n\nOpening: Wed May 6\, 7:30pm – Opening Reception \n\n\n\nThurs May 7\, 7:30pm –  Post Show Talkback: Hosted by Barbara Brown\, Redbird Therapy Centre \n\n\n\nFri May 8\, 7:30pm \n\n\n\nSat May 9\, 7:30pm \n\n\n\nSun May 10\, 2:00pm \n\n\n\nWed May 13\, 7:30pm \n\n\n\nThurs May 14\, 7:30pm – Post-show Talkback \n\n\n\nFri May 15\, 7:30pm \n\n\n\nSat May 16\, 7:30pm \n\n\n\nClosing: Sun May 17\, 2:00pm \n\n\n\nTicket Pricing\n\n\n\n$25 Arts Worker/Student/Senior | $35 Regular | $50 Supporter | All Previews $25 \n\n\n\n\nGet Tickets
URL:https://www.factorytheatre.ca/event/12-litres-8800-steps-3/2026-05-15/
CATEGORIES:Rentals
ATTACH;FMTTYPE=image/jpeg:https://www.factorytheatre.ca/wp-content/uploads/2026/03/12-litres-8800-steps_draft-3_box-office-banner-scaled.jpg
END:VEVENT
BEGIN:VEVENT
DTSTART;TZID=America/Toronto:20260516T193000
DTEND;TZID=America/Toronto:20260516T210000
DTSTAMP:20260421T062509
CREATED:20260310T152009Z
LAST-MODIFIED:20260408T204730Z
UID:10002792-1778959800-1778965200@www.factorytheatre.ca
SUMMARY:12 Litres 8800 Steps
DESCRIPTION:The Unbridled Theatre Collective and Aluna Theatre presents 12 Litres 8800 Steps \n\n\n\n12 Litres 8800 Steps is an interdisciplinary theatrical odyssey that invites us into the world of people who have lost loved ones to addiction: One woman’s journey in coming to terms with the fragility of her own mental health while witnessing the demise of her partner through addiction. A Horse appears and magic realism collides with the everyday reality of living with and loving an addict.  \n\n\n\nMoving between fantasy and reality\, past and present and inspired by equine therapy\, the play explores the deepening bond between The Horse and The Woman: how they come together to negotiate their relationship\, re-discover play and how they eventually heal each other in the process. An 80-minute high octane rollercoaster with stunning visuals and an immersive soundscape\, 12 Litres 8800 Steps is for anyone seeking a silver lining in the dark. \n\n\n\nContent/Sensory Warnings\nContent warning: addiction\, alcoholism\, mental health\, panic attacks\, drowning\, death \n\n\n\nSensory warning: loud immersive sound \n\n\n\n\nProduction Credits\n\n\n\nCREATOR\, DIRECTOR AND PERFORMER Anita La Selva \n\n\n\nPERFORMER Brad Cook \n\n\n\nCO-DIRECTOR Beatriz Pizano \n\n\n\nPRODUCTION DRAMTURG Martin Julien \n\n\n\nSCENOGRAPHER Trevor Schwellnus \n\n\n\nCHOREOGRAPHER Victoria Mata \n\n\n\nSOUND DESIGNER Thomas Ryder Payne \n\n\n\nCOSTUME DESIGNER Teresa Pryzbylski \n\n\n\nCO-DESIGNER/BUILDER – HORSE MASK Monica Viani \n\n\n\nPRODUCTION MANAGER Charissa Wilcox \n\n\n\nSTAGE MANAGER Flavía F. Martin \n\n\n\nASSISTANT STAGE MANAGER Alicia Salverda \n\n\n\nASSOCIATE ARTISTIC PRODUCER FOR ALUNA THEATRE María Escolán \n\n\n\nMARKETING COORDINATOR Josh Marchesini \n\n\n\nProduced by The Unbridled Theatre Collective and Aluna Theatre \n\n\n\nVenue Partner: Factory Theatre \n\n\n\nPerformance Schedule\n\n\n\nPreview: Fri May 1\, 7:30pm \n\n\n\nPreview: Sat May 2\, 7:30pm \n\n\n\nPreview: Sun May 3\, 2:00pm \n\n\n\nOpening: Wed May 6\, 7:30pm – Opening Reception \n\n\n\nThurs May 7\, 7:30pm –  Post Show Talkback: Hosted by Barbara Brown\, Redbird Therapy Centre \n\n\n\nFri May 8\, 7:30pm \n\n\n\nSat May 9\, 7:30pm \n\n\n\nSun May 10\, 2:00pm \n\n\n\nWed May 13\, 7:30pm \n\n\n\nThurs May 14\, 7:30pm – Post-show Talkback \n\n\n\nFri May 15\, 7:30pm \n\n\n\nSat May 16\, 7:30pm \n\n\n\nClosing: Sun May 17\, 2:00pm \n\n\n\nTicket Pricing\n\n\n\n$25 Arts Worker/Student/Senior | $35 Regular | $50 Supporter | All Previews $25 \n\n\n\n\nGet Tickets
URL:https://www.factorytheatre.ca/event/12-litres-8800-steps-3/2026-05-16/
CATEGORIES:Rentals
ATTACH;FMTTYPE=image/jpeg:https://www.factorytheatre.ca/wp-content/uploads/2026/03/12-litres-8800-steps_draft-3_box-office-banner-scaled.jpg
END:VEVENT
BEGIN:VEVENT
DTSTART;TZID=America/Toronto:20260517T140000
DTEND;TZID=America/Toronto:20260517T153000
DTSTAMP:20260421T062509
CREATED:20260310T152009Z
LAST-MODIFIED:20260408T204730Z
UID:10002793-1779026400-1779031800@www.factorytheatre.ca
SUMMARY:12 Litres 8800 Steps
DESCRIPTION:The Unbridled Theatre Collective and Aluna Theatre presents 12 Litres 8800 Steps \n\n\n\n12 Litres 8800 Steps is an interdisciplinary theatrical odyssey that invites us into the world of people who have lost loved ones to addiction: One woman’s journey in coming to terms with the fragility of her own mental health while witnessing the demise of her partner through addiction. A Horse appears and magic realism collides with the everyday reality of living with and loving an addict.  \n\n\n\nMoving between fantasy and reality\, past and present and inspired by equine therapy\, the play explores the deepening bond between The Horse and The Woman: how they come together to negotiate their relationship\, re-discover play and how they eventually heal each other in the process. An 80-minute high octane rollercoaster with stunning visuals and an immersive soundscape\, 12 Litres 8800 Steps is for anyone seeking a silver lining in the dark. \n\n\n\nContent/Sensory Warnings\nContent warning: addiction\, alcoholism\, mental health\, panic attacks\, drowning\, death \n\n\n\nSensory warning: loud immersive sound \n\n\n\n\nProduction Credits\n\n\n\nCREATOR\, DIRECTOR AND PERFORMER Anita La Selva \n\n\n\nPERFORMER Brad Cook \n\n\n\nCO-DIRECTOR Beatriz Pizano \n\n\n\nPRODUCTION DRAMTURG Martin Julien \n\n\n\nSCENOGRAPHER Trevor Schwellnus \n\n\n\nCHOREOGRAPHER Victoria Mata \n\n\n\nSOUND DESIGNER Thomas Ryder Payne \n\n\n\nCOSTUME DESIGNER Teresa Pryzbylski \n\n\n\nCO-DESIGNER/BUILDER – HORSE MASK Monica Viani \n\n\n\nPRODUCTION MANAGER Charissa Wilcox \n\n\n\nSTAGE MANAGER Flavía F. Martin \n\n\n\nASSISTANT STAGE MANAGER Alicia Salverda \n\n\n\nASSOCIATE ARTISTIC PRODUCER FOR ALUNA THEATRE María Escolán \n\n\n\nMARKETING COORDINATOR Josh Marchesini \n\n\n\nProduced by The Unbridled Theatre Collective and Aluna Theatre \n\n\n\nVenue Partner: Factory Theatre \n\n\n\nPerformance Schedule\n\n\n\nPreview: Fri May 1\, 7:30pm \n\n\n\nPreview: Sat May 2\, 7:30pm \n\n\n\nPreview: Sun May 3\, 2:00pm \n\n\n\nOpening: Wed May 6\, 7:30pm – Opening Reception \n\n\n\nThurs May 7\, 7:30pm –  Post Show Talkback: Hosted by Barbara Brown\, Redbird Therapy Centre \n\n\n\nFri May 8\, 7:30pm \n\n\n\nSat May 9\, 7:30pm \n\n\n\nSun May 10\, 2:00pm \n\n\n\nWed May 13\, 7:30pm \n\n\n\nThurs May 14\, 7:30pm – Post-show Talkback \n\n\n\nFri May 15\, 7:30pm \n\n\n\nSat May 16\, 7:30pm \n\n\n\nClosing: Sun May 17\, 2:00pm \n\n\n\nTicket Pricing\n\n\n\n$25 Arts Worker/Student/Senior | $35 Regular | $50 Supporter | All Previews $25 \n\n\n\n\nGet Tickets
URL:https://www.factorytheatre.ca/event/12-litres-8800-steps-3/2026-05-17/
CATEGORIES:Rentals
ATTACH;FMTTYPE=image/jpeg:https://www.factorytheatre.ca/wp-content/uploads/2026/03/12-litres-8800-steps_draft-3_box-office-banner-scaled.jpg
END:VEVENT
END:VCALENDAR